BEGIN:VCALENDAR
VERSION:2.0
PRODID:-//Areopagos - ECPv6.15.20//NONSGML v1.0//EN
CALSCALE:GREGORIAN
METHOD:PUBLISH
X-ORIGINAL-URL:https://areopagos.dk
X-WR-CALDESC:Begivenheder for Areopagos
REFRESH-INTERVAL;VALUE=DURATION:PT1H
X-Robots-Tag:noindex
X-PUBLISHED-TTL:PT1H
BEGIN:VTIMEZONE
TZID:Europe/Copenhagen
BEGIN:DAYLIGHT
TZOFFSETFROM:+0100
TZOFFSETTO:+0200
TZNAME:CEST
DTSTART:20250330T010000
END:DAYLIGHT
BEGIN:STANDARD
TZOFFSETFROM:+0200
TZOFFSETTO:+0100
TZNAME:CET
DTSTART:20251026T010000
END:STANDARD
BEGIN:DAYLIGHT
TZOFFSETFROM:+0100
TZOFFSETTO:+0200
TZNAME:CEST
DTSTART:20260329T010000
END:DAYLIGHT
BEGIN:STANDARD
TZOFFSETFROM:+0200
TZOFFSETTO:+0100
TZNAME:CET
DTSTART:20261025T010000
END:STANDARD
BEGIN:DAYLIGHT
TZOFFSETFROM:+0100
TZOFFSETTO:+0200
TZNAME:CEST
DTSTART:20270328T010000
END:DAYLIGHT
BEGIN:STANDARD
TZOFFSETFROM:+0200
TZOFFSETTO:+0100
TZNAME:CET
DTSTART:20271031T010000
END:STANDARD
END:VTIMEZONE
BEGIN:VEVENT
DTSTART;TZID=Europe/Copenhagen:20260303T130000
DTEND;TZID=Europe/Copenhagen:20260303T160000
DTSTAMP:20260421T113310
CREATED:20260203T092937Z
LAST-MODIFIED:20260203T125906Z
UID:13983-1772542800-1772553600@areopagos.dk
SUMMARY:Hvad er kirkens mission?
DESCRIPTION:Temadag – 3. marts kl. 13.00–16.00\nSted:Det Teologiske Fakultet\, Københavns UniversitetKaren Blixens Vej 16\, 2300 KøbenhavnLokale 4b.08.30 \nHvad er kirkens mission i det 21. århundredes Europa? Hvordan kan mission forstås og drøftes i dag\, hvor kirkelige og samfundsmæssige vilkår er under hastig forandring? \nMission har historisk været tæt knyttet til vestlige missionsselskabers arbejde i koloniale og postkoloniale kontekster. I efterkrigstiden blev mission i stigende grad forstået som samarbejde og partnerskab\, og i dag står både missionsorganisationer og missiologien igen i en ny brydningstid. Vestlige missionsselskaber omdefinerer deres rolle\, og missionsstudiet retter i højere grad blikket mod global kristendom og kristen mangfoldighed – også i europæiske sammenhænge. \nTemadagen indleder en seminar­række i 2026 om missiologiens fremtid i Danmark. Målet er at skabe en åben og bred samtale om kirkens mission i dag\, hvor forskellige teologiske\, kulturelle og kirkelige perspektiver kan mødes. Hver temadag vil inddrage internationale stemmer\, som kan inspirere den danske debat. \nProgram og oplægsholdere \n\nZoran Grozdanov\, professor i systematisk teologi ved Universitetet i Zagreb\, indleder med et oplæg om kirkens mission i den offentlige samtale i dag. Har kirken fortsat en særlig rolle – lokalt og globalt – og hvordan kan denne rolle formuleres i et europæisk perspektiv? Zarev er en central stemme inden for europæisk politisk teologi.\n\n  \n\nDr. Ben Aldous\, missionssekretær i Den Anglikanske Kirke\, og dr. Nicola Brady\, generalsekretær for Churches Together in England\, giver et indblik i mission i en kontekst\, hvor majoritetskirken ikke længere er majoritet. De tager udgangspunkt i erfaringer fra England\, hvor nye kirkelige fællesskaber vokser frem\, og hvor mission i stigende grad foregår på tværs af kulturelle og etniske skel. De er redaktører af bogen Lived Mission in the 21st Century (2025).\n\nDer vil være mulighed for fælles samtale og debat. \nTILMELDING TIL bbn@areopagos.dk. Skriv blot\, at du kommer\, og om du tager en gæst med. \nArrangører: Areopagos\, Danske Kirkers Råd og Det Teologiske Fakultet\, Københavns Universitet.
URL:https://areopagos.dk/event/hvad-er-kirkens-mission/
CATEGORIES:Udvalgte begivenheder
ATTACH;FMTTYPE=image/png:https://areopagos.dk/wp-content/uploads/2026/02/verden.png
END:VEVENT
BEGIN:VEVENT
DTSTART;TZID=Europe/Copenhagen:20260303T190000
DTEND;TZID=Europe/Copenhagen:20260303T200000
DTSTAMP:20260421T113310
CREATED:20251216T094947Z
LAST-MODIFIED:20251216T094947Z
UID:13849-1772564400-1772568000@areopagos.dk
SUMMARY:Identitet og livsforvandling
DESCRIPTION:Gudstjenesten er en meditativ nadvergudstjeneste\, som finder sted i et samarbejde mellem Allehelgens kirke og I Mesterens Lys. \nVi synger Taizésange\, som ved deres meditative og gentagende karakter skaber en atmosfære af ro og refleksion. I sidste del af gudstjenesten er der mulighed for at gå rundt til forskellige ’stationer’ i kirken. \nSang og musik ved organist og kirkesanger bidrager til gudstjenestens smukke stemning og rolige atmosfære. \nEfter gudstjenesten er der mulighed for forbøn og hygge med kaffe/te. \nSted: Allehelgens Kirke\, Ungarnsgade 43\, 2300 København S
URL:https://areopagos.dk/event/identitet-og-livsforvandling-18/
CATEGORIES:I Mesterens Lys,Udvalgte begivenheder
ATTACH;FMTTYPE=image/jpeg:https://areopagos.dk/wp-content/uploads/2023/12/ic-xc.jpg
END:VEVENT
END:VCALENDAR