BEGIN:VCALENDAR
VERSION:2.0
PRODID:-//Areopagos - ECPv6.15.20//NONSGML v1.0//EN
CALSCALE:GREGORIAN
METHOD:PUBLISH
X-ORIGINAL-URL:https://areopagos.dk
X-WR-CALDESC:Begivenheder for Areopagos
REFRESH-INTERVAL;VALUE=DURATION:PT1H
X-Robots-Tag:noindex
X-PUBLISHED-TTL:PT1H
BEGIN:VTIMEZONE
TZID:Europe/Copenhagen
BEGIN:DAYLIGHT
TZOFFSETFROM:+0100
TZOFFSETTO:+0200
TZNAME:CEST
DTSTART:20250330T010000
END:DAYLIGHT
BEGIN:STANDARD
TZOFFSETFROM:+0200
TZOFFSETTO:+0100
TZNAME:CET
DTSTART:20251026T010000
END:STANDARD
BEGIN:DAYLIGHT
TZOFFSETFROM:+0100
TZOFFSETTO:+0200
TZNAME:CEST
DTSTART:20260329T010000
END:DAYLIGHT
BEGIN:STANDARD
TZOFFSETFROM:+0200
TZOFFSETTO:+0100
TZNAME:CET
DTSTART:20261025T010000
END:STANDARD
BEGIN:DAYLIGHT
TZOFFSETFROM:+0100
TZOFFSETTO:+0200
TZNAME:CEST
DTSTART:20270328T010000
END:DAYLIGHT
BEGIN:STANDARD
TZOFFSETFROM:+0200
TZOFFSETTO:+0100
TZNAME:CET
DTSTART:20271031T010000
END:STANDARD
END:VTIMEZONE
BEGIN:VEVENT
DTSTART;TZID=Europe/Copenhagen:20260423T190000
DTEND;TZID=Europe/Copenhagen:20260423T210000
DTSTAMP:20260417T130106
CREATED:20260127T110459Z
LAST-MODIFIED:20260127T110459Z
UID:13966-1776970800-1776978000@areopagos.dk
SUMMARY:Christfulness nadvergudstjeneste med Bøn i Bevægelse
DESCRIPTION:Fra marts 2024 begynder vi med månedlige Christfulness nadvergudstjenester i Bethlehemskirken på Nørrebro\, hvor vi inviterer Bøn i Bevægelses-instruktører til at medvirke. \nNadveren er det stærkeste udtryk for Christfulness som det at være i Kristus; vi bliver fuldt ud dem vi er\, når vi er en del af den forløste menneskehed\, som er Kristi legeme. Alle vores forskellige praksisser sigter mod Kristi fylde af kærlighed\, nåde og sandhed. \nGudstjenesterne rummer en meditation\, som normalt vil være i form af bøn i bevægelse – krop\, sjæl og ånd samvirker i vores vækst ind i Kristi fylde. \nSted: Bethlehemskirken\, Åboulevarden 8\, 2200 København N.
URL:https://areopagos.dk/event/christfulness-nadvergudstjeneste-med-boen-i-bevaegelse-11/
CATEGORIES:Christfulness,I Mesterens Lys,Udvalgte begivenheder
ATTACH;FMTTYPE=image/png:https://areopagos.dk/wp-content/uploads/2024/01/nadver.png
END:VEVENT
END:VCALENDAR