BEGIN:VCALENDAR
VERSION:2.0
PRODID:-//Areopagos - ECPv6.15.20//NONSGML v1.0//EN
CALSCALE:GREGORIAN
METHOD:PUBLISH
X-WR-CALNAME:Areopagos
X-ORIGINAL-URL:https://areopagos.dk
X-WR-CALDESC:Begivenheder for Areopagos
REFRESH-INTERVAL;VALUE=DURATION:PT1H
X-Robots-Tag:noindex
X-PUBLISHED-TTL:PT1H
BEGIN:VTIMEZONE
TZID:Europe/Copenhagen
BEGIN:DAYLIGHT
TZOFFSETFROM:+0100
TZOFFSETTO:+0200
TZNAME:CEST
DTSTART:20250330T010000
END:DAYLIGHT
BEGIN:STANDARD
TZOFFSETFROM:+0200
TZOFFSETTO:+0100
TZNAME:CET
DTSTART:20251026T010000
END:STANDARD
BEGIN:DAYLIGHT
TZOFFSETFROM:+0100
TZOFFSETTO:+0200
TZNAME:CEST
DTSTART:20260329T010000
END:DAYLIGHT
BEGIN:STANDARD
TZOFFSETFROM:+0200
TZOFFSETTO:+0100
TZNAME:CET
DTSTART:20261025T010000
END:STANDARD
BEGIN:DAYLIGHT
TZOFFSETFROM:+0100
TZOFFSETTO:+0200
TZNAME:CEST
DTSTART:20270328T010000
END:DAYLIGHT
BEGIN:STANDARD
TZOFFSETFROM:+0200
TZOFFSETTO:+0100
TZNAME:CET
DTSTART:20271031T010000
END:STANDARD
END:VTIMEZONE
BEGIN:VEVENT
DTSTART;TZID=Europe/Copenhagen:20260417T170000
DTEND;TZID=Europe/Copenhagen:20260419T153000
DTSTAMP:20260417T130547
CREATED:20260204T071129Z
LAST-MODIFIED:20260327T125432Z
UID:13062-1776445200-1776612600@areopagos.dk
SUMMARY:Stilleretræte: Hvile (UDSOLGT)
DESCRIPTION:17.–19. april 2026\nGæstehusene ved Vor Frue Kloster\, Høsterkøb \n\n\n\nVelkommen til stilleretræte\nDu inviteres til et par dage i stilhed\, bøn og fordybelse i smukke og fredfyldte omgivelser ved Vor Frue Kloster\, tæt på Rude Skov og Sjælsø. Stilheden giver rum til at komme i kontakt med sig selv og Gud – væk fra hverdagens støj og indtryk. \nRetræten er præget af meditation\, sang\, bøn i bevægelse og fælles samlinger\, men uden samtale fra fredag aften til søndag efter frokost. \nSE FOLDER MED MERE INFORMATION HER. \n\n\n\nPraktiske oplysninger\nSted\nGæstehusene Emaus\, Subiaco og Shalom\nVed Vor Frue Kloster (Benediktinerinderne OSB)\nHøsterkøbvej 5\, 3460 Birkerød \nTidspunkt\nAnkomst fredag kl. 17–18\nAfrejse søndag kl. 15.30 \nTransport\nDer opfordres til fælleskørsel\, men stedet er også let tilgængeligt med offentlig transport. \n\n\n\nIndkvartering\n\nDobbeltværelser (delt med en anden deltager)\nFå enkeltværelser kan fås mod merpris (tildeles efter først-til-mølle)\n\n\n\n\nMedbring\n\nBibel\nNotesblok og skriveredskaber\nHjemmesko\nSengelinned inkl. lagen\nToiletsager\nVækkeur\nPersonlige ejendele\n\nVi anbefaler\, at mobilen er slukket under hele retræten. \n\n\n\nProgram (kort overblik)\nFredag\nAnkomst og indkvartering\nIntroduktion i kapellet\nBøn i bevægelse og meditativ sang – stilheden begynder \nLørdag\nMorgenmad\nInspirationsoplæg\, sang og meditation\nTid til stilhed\, bøn og natur\nMulighed for individuel samtale og forbøn\nAftenprogram med meditation og sang \nSøndag\nMorgenmad\nKort gudstjeneste med nadver\nAfrunding af stilheden og delerunde\nOprydning og afrejse kl. 15.30 \n\n\n\nPris og tilmelding\nPrisen er solidarisk – du vælger det beløb\, der passer til dit indtægtsniveau. \nSE FOLDER MED MERE INFORMATION HER. \nDobbeltværelse \n\nLav: 695 kr.\nNormal: 950 kr.\nHøj: 1195 kr.\n\nEnkeltværelse \n\n1900 kr. (meget begrænset antal)\n\nTilmelding er bindende. Ved afmelding refunderes beløbet kun\, hvis en anden overtager pladsen. \n👉 Tilmelding:\nKLIK HER FOR TILMELDING. \n\n\n\nUdtalelser fra deltagere\n“Retræterne har ændret mit liv. Jeg finder roen og tager den med mig hjem i hverdagen.”\n— Søren \n“Stilhedens rum er en sjælden gave. At være af sted i bøn\, meditation og stilhed er forvandlende.”\n— Torsten \n\n\n\nKontakt\nTorsten Borbye Nielsen\n📧 tbn@areopagos.dk\n📞 25 39 63 98 \nSE FOLDER MED MERE INFORMATION HER.
URL:https://areopagos.dk/event/stilleretraete/
CATEGORIES:I Mesterens Lys,Udvalgte begivenheder
ATTACH;FMTTYPE=image/jpeg:https://areopagos.dk/wp-content/uploads/2025/09/vorfrue.jpg
END:VEVENT
BEGIN:VEVENT
DTSTART;TZID=Europe/Copenhagen:20260423T190000
DTEND;TZID=Europe/Copenhagen:20260423T210000
DTSTAMP:20260417T130547
CREATED:20260127T110459Z
LAST-MODIFIED:20260127T110459Z
UID:13966-1776970800-1776978000@areopagos.dk
SUMMARY:Christfulness nadvergudstjeneste med Bøn i Bevægelse
DESCRIPTION:Fra marts 2024 begynder vi med månedlige Christfulness nadvergudstjenester i Bethlehemskirken på Nørrebro\, hvor vi inviterer Bøn i Bevægelses-instruktører til at medvirke. \nNadveren er det stærkeste udtryk for Christfulness som det at være i Kristus; vi bliver fuldt ud dem vi er\, når vi er en del af den forløste menneskehed\, som er Kristi legeme. Alle vores forskellige praksisser sigter mod Kristi fylde af kærlighed\, nåde og sandhed. \nGudstjenesterne rummer en meditation\, som normalt vil være i form af bøn i bevægelse – krop\, sjæl og ånd samvirker i vores vækst ind i Kristi fylde. \nSted: Bethlehemskirken\, Åboulevarden 8\, 2200 København N.
URL:https://areopagos.dk/event/christfulness-nadvergudstjeneste-med-boen-i-bevaegelse-11/
CATEGORIES:Christfulness,I Mesterens Lys,Udvalgte begivenheder
ATTACH;FMTTYPE=image/png:https://areopagos.dk/wp-content/uploads/2024/01/nadver.png
END:VEVENT
BEGIN:VEVENT
DTSTART;TZID=Europe/Copenhagen:20260425T130000
DTEND;TZID=Europe/Copenhagen:20260425T190000
DTSTAMP:20260417T130547
CREATED:20260309T094532Z
LAST-MODIFIED:20260318T133051Z
UID:14085-1777122000-1777143600@areopagos.dk
SUMMARY:Årsmøde 2026: Trosdialog i en polariseret tid
DESCRIPTION:Velkommen til Areopagos’ årsmøde\, hvor medlemmer og interesserede samles til en eftermiddag med fællesskab\, fordybelse og samtale. Årets tema er “Trosdialog i en polariserende tid”\, hvor vi sammen undersøger\, hvordan dialog mellem tro\, mennesker og kulturer kan skabe forståelse i en tid præget af stærke modsætninger. \nProgrammet byder blandt andet på meditation\, mødet med Areopagos’ nye generalsekretær samt en live podcast og fælles samtale om dagens tema. Dagen afsluttes med middag og mulighed for at møde både nye og gamle medlemmer. \nTid: Lørdag d. 25. april kl. 13.00–19.00Sted: Nazaret Kirke\, Ryesgade 105B\, København \nProgram \n13.00–14.30 – Årsmøde i medlemsforeningen14.30–15.00 – Kaffe og kage15.00–15.30 – Ånd Ind meditation v. Johan Holm Nielsen15.30–16.15 – Mød vores nye generalsekretær\, Hallvard Olavson Mosdøl16.15–16.30 – Pause og stræk16.30–17.15 – Live podcast: Martin Krath-Andersen i samtale med Agnete G. Holm. Agnete er seniorrådgiver i dialog og fredsopbygning hos Danmission\, hjælpepræst ved Helligåndskirken og 2. suppleant i Areopagos’ styre.17.15–18.00 – Dialog om dagens tema18.00–19.00 – Middag \nTILMELDING\nDagen er ikke forbeholdt medlemmer. Alle er velkomne til årsmødet. \nTilmelding for medlemmer HER \nTilmelding for ikke-medlemmer HER \nTilmelding bedes venligst ske senest den 10. april 2026
URL:https://areopagos.dk/event/aarsmoede-i-areopagos-trosdialog-i-en-polariserende-tid/
CATEGORIES:Udvalgte begivenheder
ATTACH;FMTTYPE=image/png:https://areopagos.dk/wp-content/uploads/2026/03/dao.png
END:VEVENT
BEGIN:VEVENT
DTSTART;TZID=Europe/Copenhagen:20260427T130000
DTEND;TZID=Europe/Copenhagen:20260427T163000
DTSTAMP:20260417T130547
CREATED:20260325T110215Z
LAST-MODIFIED:20260325T110950Z
UID:14131-1777294800-1777307400@areopagos.dk
SUMMARY:Hvad er kirkens mission?
DESCRIPTION:Dato: April 27\, kl. 13:00–16:30\nLokation: Areopagos\, Rådhusstræde 6\, stuen\,  1466 København K \nHvad er kirkens mission i det 21. århundredes Europa? Og hvordan kan vi i dag tale om\, forstå og analysere mission? \nStudiet af kirkens mission har gennem mere end hundrede år været tæt forbundet med vestlige missionsselskabers arbejde i den såkaldte tredje verden. Dette ændrede sig markant i efterkrigstiden og i forbindelse med opløsningen af kolonistaterne\, hvor mission i stigende grad blev forstået som samarbejde og partnerskaber. I dag er denne virkelighed igen under forandring\, idet vestlige missionsselskaber omdefinerer sig\, lukker eller søger nye veje. \nDenne udvikling afspejler sig i missionsstudiet\, som mange steder i dag i højere grad beskæftiger sig med kristen mangfoldighed og global kristendom. Skiftet betyder imidlertid ikke\, at spørgsmålet om kirkens mission har mistet sin relevans – men snarere\, at det må stilles på nye måder\, rettet mod andre kirkelige sammenhænge\, og besvares i lyset af nye kontekster. Vi har brug for en vidhjertet og åben dialog om missiologi\, hvor mange forskellige stemmer\, aldre\, teologiske og kulturelle traditioner kommer til udtryk. \nDisse problemstillinger danner rammen om en temarække af seminarer i 2026\, hvor vi drøfter missiologiens fremtid i Danmark som fagfelt. Hver temadag vil inddrage perspektiver fra udlandet\, som kan inspirere og forny den danske samtale. \nDette er det andet seminar i denne serie. \nProgram \n13.00–13.05: Introduktion \n13.05–14.05: Missionens og missiologiens rolle i et foranderligt globalt landskab\nMissiologi og mission er blevet omstridte begreber\, praksisser og fagområder. Situationen er alvorlig\, fordi offentlige universiteter og moderne sekulære samfund ikke længere betragter studiet og praksissen af mission som nødvendig. Derfor må vi gentænke vores forståelse af mission og missiologi og bekræfte deres relevans i en tid\, der har ændret sig radikalt. Det kalder os til dyb refleksion over: Hvordan kan vi gentænke vores missionsteologi på måder\, der former vores missionspraksis\, så vi forbliver både trofaste og relevante i en verden\, der er blevet så gennemgribende forandret? \nEugene Baron er professor ved University of Johannesburg i Sydafrika. Han har mere end et årtis akademisk erfaring (siden 2010)\, herunder vejledning\, undervisning og studenterstøtte ved både offentlige og private videregående uddannelsesinstitutioner. Han tog sin ph.d. ved University of the Western Cape (UWC) og gennemførte dele af sin forskning ved Katholieke Universiteit Leuven i Belgien. Han er i dag chefredaktør for HTS Theological Studies og assisterende redaktør for Mission Studies. I 2024 blev han udnævnt til den første generalsekretær for den afrikanske afdeling af International Association of Mission Studies (IAMS-Africa). \n14.05–14.20: Refleksioner \n14.20–14.45: Pause – kaffe og kage \n14.45–15.45: “Fra missionsstudier til verdens-kristendom”\nMissionsstudier opstod som en disciplin\, der skulle begrunde og understøtte den vestlige missionsbevægelse. I en tid\, hvor vestligt hegemoni i kristendommen erstattes af en ny kulturel mangfoldighed\, har missionsstudier også behov for fornyelse. Et tegn på dette har været omdøbningen til “World Christianity” samt en fornyelse af tilgange\, metoder og teorier. \nMika Vähäkangas er direktør for Polin Institute ved Åbo Akademi University og ekstraordinær professor ved Stellenbosch University i Sydafrika. Han har tidligere arbejdet som professor i missionsstudier og økumeni ved Lunds Universitet i Sverige samt som lektor i systematisk teologi ved Makumira University College i Tanzania. \n15.45–16.00: Refleksion \n16.00–16.30: Respons og refleksion ved senior akademisk rådgiver Bent Bjerring Nielsen og dr. Emil Hilton Saggau\, efterfulgt af åben samtale \nArrangører: Areopagos og Danske Kirkers Råd \nTilmeld dig ved at skrive til bbn@areopagos.dk\, at du deltager.\n 
URL:https://areopagos.dk/event/hvad-er-kirkens-mission-2/
CATEGORIES:Udvalgte begivenheder
ATTACH;FMTTYPE=image/png:https://areopagos.dk/wp-content/uploads/2026/02/verden.png
END:VEVENT
BEGIN:VEVENT
DTSTART;TZID=Europe/Copenhagen:20260505T190000
DTEND;TZID=Europe/Copenhagen:20260505T200000
DTSTAMP:20260417T130547
CREATED:20251216T095214Z
LAST-MODIFIED:20251216T095214Z
UID:13853-1778007600-1778011200@areopagos.dk
SUMMARY:Identitet og livsforvandling
DESCRIPTION:Gudstjenesten er en meditativ nadvergudstjeneste\, som finder sted i et samarbejde mellem Allehelgens kirke og I Mesterens Lys. \nVi synger Taizésange\, som ved deres meditative og gentagende karakter skaber en atmosfære af ro og refleksion. I sidste del af gudstjenesten er der mulighed for at gå rundt til forskellige ’stationer’ i kirken. \nSang og musik ved organist og kirkesanger bidrager til gudstjenestens smukke stemning og rolige atmosfære. \nEfter gudstjenesten er der mulighed for forbøn og hygge med kaffe/te. \nSted: Allehelgens Kirke\, Ungarnsgade 43\, 2300 København S
URL:https://areopagos.dk/event/identitet-og-livsforvandling-20/
CATEGORIES:I Mesterens Lys,Udvalgte begivenheder
ATTACH;FMTTYPE=image/jpeg:https://areopagos.dk/wp-content/uploads/2023/12/ic-xc.jpg
END:VEVENT
BEGIN:VEVENT
DTSTART;TZID=Europe/Copenhagen:20260517T110000
DTEND;TZID=Europe/Copenhagen:20260517T143000
DTSTAMP:20260417T130547
CREATED:20251216T123509Z
LAST-MODIFIED:20251216T123509Z
UID:13863-1779015600-1779028200@areopagos.dk
SUMMARY:Nautilus: Fællesskabssøndag m. brunch\, meditation og helende bøn
DESCRIPTION:Hjertelig velkommen til varmt\, åbent fællesskab i Brønshøj med brunch\, taknemmelighedsrunde\, meditativ sang og guidet meditation.\nBagefter mindre grupper med samtale og mulighed for helende bøn. \nArrangeret af: Nautilus (Helene og Torsten Borbye Nielsen)\nSted: Hos Helene og Torsten v. Merløsevej 38\, 2700 Brønshøj \nLæs mere og tilmeld dig via dette link.
URL:https://areopagos.dk/event/nautilus-faellesskabssoendag-m-brunch-meditation-og-helende-boen-14/
CATEGORIES:I Mesterens Lys
ATTACH;FMTTYPE=image/jpeg:https://areopagos.dk/wp-content/uploads/2023/11/Design-uden-navn.jpg
END:VEVENT
BEGIN:VEVENT
DTSTART;TZID=Europe/Copenhagen:20260517T130000
DTEND;TZID=Europe/Copenhagen:20260517T143000
DTSTAMP:20260417T130547
CREATED:20260401T134339Z
LAST-MODIFIED:20260401T134339Z
UID:14168-1779022800-1779028200@areopagos.dk
SUMMARY:Skovkirke
DESCRIPTION:17. maj kl. 13.00–14.30 \nKom med til Skovkirke – et roligt og sanseligt fællesskab under åben himmel. Skovkirke kan minde om en gudstjeneste\, men her er der mere plads til stilhed\, kreativitet\, meditation og eftertanke. \nVi mødes ved Hammer Kirke\, Hammer Kirkevej 10\, 9381 Sulsted\, og efter samlingen i Guds store katedral hygger vi os med medbragt kaffe eller te. \nPraktisk informationDato: 17. majTid: Kl. 13.00–14.30Mødested: Ved Hammer Kirke\, Hammer Kirkevej 10\, 9381 Sulsted \nDet skal du huskeTag passende og vejrafstemt tøj og fodtøj på\, og medbring gerne termokande samt eventuelt tæppe eller campingstol. \nTilmeldingDet er ikke nødvendigt at tilmelde sig – du møder bare op.Ønsker du mere information\, kan du skrive til Mia på mbj@areopagos.dk
URL:https://areopagos.dk/event/skovkirke/
CATEGORIES:Udvalgte begivenheder
ATTACH;FMTTYPE=image/png:https://areopagos.dk/wp-content/uploads/2026/04/skovkirke.png
END:VEVENT
BEGIN:VEVENT
DTSTART;TZID=Europe/Copenhagen:20260521T190000
DTEND;TZID=Europe/Copenhagen:20260521T210000
DTSTAMP:20260417T130547
CREATED:20260127T110531Z
LAST-MODIFIED:20260127T110544Z
UID:13968-1779390000-1779397200@areopagos.dk
SUMMARY:Christfulness nadvergudstjeneste med Bøn i Bevægelse
DESCRIPTION:Fra marts 2024 begynder vi med månedlige Christfulness nadvergudstjenester i Bethlehemskirken på Nørrebro\, hvor vi inviterer Bøn i Bevægelses-instruktører til at medvirke. \nNadveren er det stærkeste udtryk for Christfulness som det at være i Kristus; vi bliver fuldt ud dem vi er\, når vi er en del af den forløste menneskehed\, som er Kristi legeme. Alle vores forskellige praksisser sigter mod Kristi fylde af kærlighed\, nåde og sandhed. \nGudstjenesterne rummer en meditation\, som normalt vil være i form af bøn i bevægelse – krop\, sjæl og ånd samvirker i vores vækst ind i Kristi fylde. \nSted: Bethlehemskirken\, Åboulevarden 8\, 2200 København N.
URL:https://areopagos.dk/event/christfulness-nadvergudstjeneste-med-boen-i-bevaegelse-12/
CATEGORIES:Christfulness,I Mesterens Lys,Udvalgte begivenheder
ATTACH;FMTTYPE=image/png:https://areopagos.dk/wp-content/uploads/2024/01/nadver.png
END:VEVENT
BEGIN:VEVENT
DTSTART;TZID=Europe/Copenhagen:20260522T173000
DTEND;TZID=Europe/Copenhagen:20260525T140000
DTSTAMP:20260417T130547
CREATED:20260316T121137Z
LAST-MODIFIED:20260316T121603Z
UID:14102-1779471000-1779717600@areopagos.dk
SUMMARY:Nærvær – Fællesskabsretræte for unge
DESCRIPTION:Dato og tidspunktFredag 22. maj 2026 kl. 17.30 – mandag 25. maj 2026 kl. 14.00 \nStedFolkekloster\, Torupvejen 69\, 3390 Hundested \nTilmeldingsfristFredag 8. maj 2026 kl. 23.59 \n____________\nHar du lyst til at finde ro\, tro og fordybe dig sammen med andre unge? Nærvær er en fællesskabsretræte for unge\, hvor vi skaber et enkelt og trygt rum med plads til stilhed\, samtale og eftertanke. \nRetræten arrangeres i samarbejde mellem KFUM og KFUK og Areopagos. Sammen inviterer vi til en weekend med fokus på tro\, spiritualitet og fællesskab midt i naturen i Nordsjælland. \nAreopagos er en kristent funderet organisation\, der arbejder med religionsdialog\, spiritualitet\, trospraksis og diakoni. På Nærvær bidrager Areopagos med erfaring i kristen spiritualitet\, meditation og refleksion. \nStilhed og fordybelse\nPå Nærvær vil du møde forskellige måder at finde ro og fordybelse på. \nProgrammet er enkelt og rytmisk – næsten som en liturgi – hvor vekselvirkningen mellem bøn\, stilhed og fællesskab hjælper os til at være til stede i nuet. \nVi samles tre gange dagligt til bøn inspireret af Taizé med meditativ sang og stilhed. Sammen læser vi udvalgte bibeltekster og hører korte oplæg\, der åbner for samtaler om tro\, liv og spiritualitet. \nOm eftermiddagen vil der være aktiviteter som guidet meditation\, stille refleksion\, pilgrimsvandring\, kreative aktiviteter og kristen yoga. Du får også mulighed for at prøve at skrive dine egne bønner. \nFællesskab i enkelhed\nHver dag er der siesta\, hvor vi opfordrer til at bruge naturen omkring os – måske til en stille gåtur gennem landskabet\, en tur til stranden eller bare til at sidde under æbletræerne og være til stede. \nSelvom Nærvær giver plads til stilhed og alenetid\, er fællesskabet en vigtig del af oplevelsen. Vi laver mad sammen\, spiser sammen\, synger sammen og deler samtaler om livet og troen. \nUanset om du kommer alene eller sammen med andre\, sørger vi for\, at du bliver taget godt imod og føler dig hjemme. \nHvem er Nærvær for?\nNærvær er for unge mellem 18 og 35 år\, der er nysgerrige på tro\, fællesskab og fordybelse. \nDu kan være kristen\, søgende\, skeptisk eller bare have lyst til at være i et rum med plads til både stilhed og samtale. \nRetræten er åben for alle unge – både medlemmer og ikke-medlemmer af KFUM og KFUK og Areopagos. \nDe daglige bønner er inspireret af Taizé\, et økumenisk klosterfællesskab i Frankrig\, men du behøver ikke kende traditionen på forhånd for at kunne være med. \nAlle er velkomne uanset køn\, seksualitet og livssyn. Retræten er et økumenisk og LGBTQIA+-inkluderende arrangement. \nDerfor skal du med på Nærvær\nDu får mulighed for at sætte tempoet ned og finde ro i krop og sind.Du får tid til refleksion over livet\, troen og dig selv.Du oplever et nærværende fællesskab med andre unge.Du får nye perspektiver på tro og spiritualitet. \nProgram\nFredag \n17.30 Ankomst og indkvartering på JORD Naturgård18.30 Aftensmad19.15 Velkomst og ryste-sammen-aktivitet20.00 Weekendens fokus20.30 Aftenbøn21.30 Hygge \nLørdag \n8.00 Morgenmad9.15 Morgenbøn9.45 Bibelrefleksion og oplæg10.30 Pause10.45 Samtalegrupper11.30 Middagsbøn12.00 Frokost13.00 Siesta14.30 Plantemeditation16.00 Pilgrimsvandring med Emmaus-perleranken18.00 Aftensmad19.00 Skrive bønner – guide20.00 Aftenbønca. 21.00 Hygge og bål \nSøndag \n8.00 Morgenmad9.15 Morgenbøn9.45 Bibelrefleksion og oplæg10.30 Pause10.45 Samtalegrupper11.30 Middagsbøn12.00 Frokost13.00 Siesta14.30 Ånd og skabelsesmeditation16.00 Yoga18.00 Aftensmad19.00 Skrive bønner – guide20.00 Aftenbønca. 21.00 Aftengåtur – se på stjerner \nMandag \n8.00 Morgenmad9.00 Oprydning10.00 Pinsegudstjeneste – åben for alle12.00 Frokost13.00 Fælles afslutning14.00 Tak for nu \nDer tages forbehold for ændringer i programmet. \nPraktiske informationer\nRetræten foregår på Folkekloster i Nordsjælland og i den omkringliggende natur. Om natten overnatter vi på JORD Naturgård\, som ligger cirka 15 minutters gang fra Folkekloster. \nAlle måltider spiser vi sammen\, og maden er inkluderet i prisen. \nPris\n250 kr. for medlemmer375 kr. for ikke-medlemmer \nPrisen dækker overnatning\, mad og program. \nOvernatning\nVi sover på senge i bomuldstelte med plads til tre personer i hvert telt. \nMedbring selv hovedpude\, sovepose eller dyne og håndklæde. Der er badefaciliteter og muldtoiletter. \nMad\nAlle måltider er inkluderet i prisen. Vi laver maden sammen i mindre grupper i det overdækkede udekøkken\, hvor der er sørget for madplan og indkøb. \nVi spiser frokost på Folkekloster og morgenmad og aftensmad på JORD Naturgård. \nArrangementet er alkoholfrit. \nTryghed og trivsel\nAlle køn\, seksualiteter og livssyn er velkomne. Vi ønsker et trygt og inkluderende rum og forventer\, at alle deltagere møder hinanden med respekt. \nHar du særlige hensyn eller behov\, er du velkommen til at give besked – vi vil gerne skabe gode rammer for alle. \nSpørgsmål\nKontakt kristendomskonsulentIda Kruse Schaumburg-Mülleriks@kfum-kfuk.dk22 22 68 12 \nTilmelding\nDer er 11 pladser\, og tilmeldingen er først til mølle. \nHvis du ikke når tilmeldingsfristen den 8. maj\, er du stadig velkommen til at skrive. Så opretter vi en venteliste.
URL:https://areopagos.dk/event/naervaer-faellesskabsretraete-for-unge/
CATEGORIES:Udvalgte begivenheder
ATTACH;FMTTYPE=image/webp:https://areopagos.dk/wp-content/uploads/2026/03/hygge.webp
END:VEVENT
BEGIN:VEVENT
DTSTART;TZID=Europe/Copenhagen:20260602T190000
DTEND;TZID=Europe/Copenhagen:20260602T200000
DTSTAMP:20260417T130547
CREATED:20251216T095234Z
LAST-MODIFIED:20251216T095234Z
UID:13855-1780426800-1780430400@areopagos.dk
SUMMARY:Identitet og livsforvandling
DESCRIPTION:Gudstjenesten er en meditativ nadvergudstjeneste\, som finder sted i et samarbejde mellem Allehelgens kirke og I Mesterens Lys. \nVi synger Taizésange\, som ved deres meditative og gentagende karakter skaber en atmosfære af ro og refleksion. I sidste del af gudstjenesten er der mulighed for at gå rundt til forskellige ’stationer’ i kirken. \nSang og musik ved organist og kirkesanger bidrager til gudstjenestens smukke stemning og rolige atmosfære. \nEfter gudstjenesten er der mulighed for forbøn og hygge med kaffe/te. \nSted: Allehelgens Kirke\, Ungarnsgade 43\, 2300 København S
URL:https://areopagos.dk/event/identitet-og-livsforvandling-21/
CATEGORIES:I Mesterens Lys,Udvalgte begivenheder
ATTACH;FMTTYPE=image/jpeg:https://areopagos.dk/wp-content/uploads/2023/12/ic-xc.jpg
END:VEVENT
BEGIN:VEVENT
DTSTART;TZID=Europe/Copenhagen:20260605T080000
DTEND;TZID=Europe/Copenhagen:20260607T170000
DTSTAMP:20260417T130547
CREATED:20260320T085300Z
LAST-MODIFIED:20260408T083148Z
UID:14117-1780646400-1780851600@areopagos.dk
SUMMARY:Utvidet tro - en sommerfestival på Oslos tag
DESCRIPTION:Å tro er i vinden\, og mange opplever et utvidet rom for samtaler og spørsmål om tro i våre usikre tider. Hvilke stemmer vil vi lytte til\, og hvordan lytter vi bedre til hverandre? Hva kan vi lære ved å se til østen når vi snakker om tro? \nPå Areopagos’ sommerfestival 2026 utforsker vi dette gjennom samtaler\, ritualer\, meditasjoner\, skogsvandringer og foredrag.\nVelkommen til en innholdsrik helg der både kunst\, kultur\, natur\, filosofi og religion må med – Et sted der tro og liv rommes. \n5.-7. juni på Voksenåsen i Oslo. \nLæs mere her https://areopagos.no/sommerfestival/
URL:https://areopagos.dk/event/utvidet-tro-en-sommerfestival-paa-oslos-tak/
CATEGORIES:Udvalgte begivenheder
ATTACH;FMTTYPE=image/png:https://areopagos.dk/wp-content/uploads/2026/03/Banner2.png
END:VEVENT
BEGIN:VEVENT
DTSTART;TZID=Europe/Copenhagen:20260614T130000
DTEND;TZID=Europe/Copenhagen:20260614T143000
DTSTAMP:20260417T130547
CREATED:20260401T134959Z
LAST-MODIFIED:20260401T134959Z
UID:14174-1781442000-1781447400@areopagos.dk
SUMMARY:Skovkirke
DESCRIPTION:Kom med til Skovkirke – et nærværende fællesskab under åben himmel\, hvor der er plads til både stilhed\, kreativitet\, meditation og eftertanke. Formen kan minde om en gudstjeneste\, men med større frihed til at være til stede i naturen og i sig selv. \nVi mødes på Hærvejen 119\, 7300 Jelling\, og efter samlingen i Guds store katedral hygger vi os med kage\, kaffe og te. \nPraktisk informationDato: 14. juniTid: Kl. 13.00–14.30Mødested: Hærvejen 119\, 7300 Jelling \nDet skal du huskeTag passende og vejrafstemt tøj og fodtøj på. \nTilmeldingTilmelding senest den 10. juni til:stinekorsbech@yahoo.dk eller mbj@areopagos.dk
URL:https://areopagos.dk/event/skovkirke-2/
CATEGORIES:Udvalgte begivenheder
ATTACH;FMTTYPE=image/png:https://areopagos.dk/wp-content/uploads/2026/04/skovkeriek.png
END:VEVENT
BEGIN:VEVENT
DTSTART;TZID=Europe/Copenhagen:20260621T110000
DTEND;TZID=Europe/Copenhagen:20260621T143000
DTSTAMP:20260417T130547
CREATED:20251216T123549Z
LAST-MODIFIED:20251216T123549Z
UID:13865-1782039600-1782052200@areopagos.dk
SUMMARY:Nautilus: Fællesskabssøndag m. brunch\, meditation og helende bøn
DESCRIPTION:Hjertelig velkommen til varmt\, åbent fællesskab i Brønshøj med brunch\, taknemmelighedsrunde\, meditativ sang og guidet meditation.\nBagefter mindre grupper med samtale og mulighed for helende bøn. \nArrangeret af: Nautilus (Helene og Torsten Borbye Nielsen)\nSted: Hos Helene og Torsten v. Merløsevej 38\, 2700 Brønshøj \nLæs mere og tilmeld dig via dette link.
URL:https://areopagos.dk/event/nautilus-faellesskabssoendag-m-brunch-meditation-og-helende-boen-15/
CATEGORIES:I Mesterens Lys
ATTACH;FMTTYPE=image/jpeg:https://areopagos.dk/wp-content/uploads/2023/11/Design-uden-navn.jpg
END:VEVENT
BEGIN:VEVENT
DTSTART;TZID=Europe/Copenhagen:20261023T170000
DTEND;TZID=Europe/Copenhagen:20261025T140000
DTSTAMP:20260417T130547
CREATED:20260401T134756Z
LAST-MODIFIED:20260401T134756Z
UID:14171-1792774800-1792936800@areopagos.dk
SUMMARY:Retræte i Skovhuset
DESCRIPTION:Giv dig selv tid til fordybelse i efterårets særlige stemning. På denne retræte i Skovhuset træder vi ind i en årstid\, der både er smuk og melankolsk – og som inviterer til ro\, refleksion og nærvær. \nVi veksler mellem tid ude i naturen og stille stunder indenfor. Gennem stilhed\, klosterrytme og forskellige praksisser lader vi efterårets langsommere tempo få plads i krop\, sjæl og sind. Samtidig samler vi indre forråd\, så vi kan møde den mørkere tid med frimodighed og hjertevarme. \nPraktisk informationDato: 23. oktober kl. 17.00 – 25. oktober kl. 14.00Sted: Skovhuset\, Gudenåvej 19\, 8740 Brædstrup \nMere informationHar du spørgsmål\, er du velkommen til at kontakte retræteleder Mia Broe Jakobsen på mbj@areopagos.dk. \nTilmeldingTilmelding foregår via Skovhusets hjemmeside:www.retraetehus.dk
URL:https://areopagos.dk/event/retraete-i-skovhuset/
CATEGORIES:Udvalgte begivenheder
ATTACH;FMTTYPE=image/png:https://areopagos.dk/wp-content/uploads/2026/04/retreate.png
END:VEVENT
END:VCALENDAR